BEGIN:VCALENDAR
VERSION:2.0
PRODID:-//ChurchDev//Events//EN
CALSCALE:GREGORIAN
METHOD:PUBLISH
BEGIN:VEVENT
UID:8488-20260428@www.shinecareministries.org
SUMMARY:Words of Wisdom
DTSTART;VALUE=DATE:20260428
DTEND;VALUE=DATE:20260429
DESCRIPTION:You can give without loving\, but you cannot love without giving. -Pastor Rick Warren\\n\\nhttps://www.shinecareministries.org/events/words-of-wisdom-19/
URL:https://www.shinecareministries.org/events/words-of-wisdom-19/
DTSTAMP:20260419T202402Z
END:VEVENT
END:VCALENDAR
