BEGIN:VCALENDAR
VERSION:2.0
PRODID:-//ChurchDev//Events//EN
CALSCALE:GREGORIAN
METHOD:PUBLISH
BEGIN:VEVENT
UID:8485-20260421@www.shinecareministries.org
SUMMARY:Words To Exhort
DTSTART;VALUE=DATE:20260421
DTEND;VALUE=DATE:20260422
DESCRIPTION:Believing is more than in the mind. It is a commitment of life. -Pastor Charles Stanley\\n\\nhttps://www.shinecareministries.org/events/words-to-exhort-20/
URL:https://www.shinecareministries.org/events/words-to-exhort-20/
DTSTAMP:20260419T202522Z
END:VEVENT
END:VCALENDAR
