BEGIN:VCALENDAR
VERSION:2.0
PRODID:-//ChurchDev//Events//EN
CALSCALE:GREGORIAN
METHOD:PUBLISH
BEGIN:VEVENT
UID:8483-20260414@www.shinecareministries.org
SUMMARY:Words of Wisdom
DTSTART;VALUE=DATE:20260414
DTEND;VALUE=DATE:20260415
DESCRIPTION:We cannot offer the Bread of Life to people if we have not eaten it ourselves. -Pastor Alistair Begg\\n\\nhttps://www.shinecareministries.org/events/words-of-wisdom-18/
URL:https://www.shinecareministries.org/events/words-of-wisdom-18/
DTSTAMP:20260419T202522Z
END:VEVENT
END:VCALENDAR
