BEGIN:VCALENDAR
VERSION:2.0
PRODID:-//ChurchDev//Events//EN
CALSCALE:GREGORIAN
METHOD:PUBLISH
BEGIN:VEVENT
UID:8453-20260408@www.shinecareministries.org
SUMMARY:Words To Exhort
DTSTART;VALUE=DATE:20260408
DTEND;VALUE=DATE:20260409
DESCRIPTION:A diamond becomes a diamond by going through difficult times&#8230\; Trials are necessary if we are to mature in The Lord. -Rabbi Kirt Schneider\\n\\nhttps://www.shinecareministries.org/events/words-to-exhort-19/
URL:https://www.shinecareministries.org/events/words-to-exhort-19/
DTSTAMP:20260419T202402Z
END:VEVENT
END:VCALENDAR
