BEGIN:VCALENDAR
VERSION:2.0
PRODID:-//ChurchDev//Events//EN
CALSCALE:GREGORIAN
METHOD:PUBLISH
BEGIN:VEVENT
UID:8449-20260401@www.shinecareministries.org
SUMMARY:Words To Exhort
DTSTART;VALUE=DATE:20260401
DTEND;VALUE=DATE:20260402
DESCRIPTION:Happiness is not about getting what you want. Sometimes that leads to unhappiness. It&#8217\;s about being content with what you have. -Pastor Michael Youssef\\n\\nhttps://www.shinecareministries.org/events/words-to-exhort-18/
URL:https://www.shinecareministries.org/events/words-to-exhort-18/
DTSTAMP:20260419T202353Z
END:VEVENT
END:VCALENDAR
