BEGIN:VCALENDAR
VERSION:2.0
PRODID:-//ChurchDev//Events//EN
CALSCALE:GREGORIAN
METHOD:PUBLISH
BEGIN:VEVENT
UID:8076-20251205@www.shinecareministries.org
SUMMARY:Discipleship Call
DTSTART:20251206T010000Z
DTEND:20251206T020000Z
DESCRIPTION:https://www.shinecareministries.org/events/discipleship-call-18/
URL:https://www.shinecareministries.org/events/discipleship-call-18/
DTSTAMP:20260419T202338Z
END:VEVENT
END:VCALENDAR
